BEGIN:VCALENDAR
VERSION:2.0
PRODID:icalendar-ruby
CALSCALE:GREGORIAN
METHOD:PUBLISH
BEGIN:VEVENT
DTSTAMP:20260421T180427Z
UID:98-366936@cavalierbaptist.com
DTSTART:20260715T233000Z
DTEND:20260716T000000Z
CLASS:PUBLIC
CREATED:20260421T112036
DESCRIPTION:
LAST-MODIFIED:20260421T112036
LOCATION:Cavalier Baptist Church
SUMMARY:Wednesday Evening Prayer Service
URL;VALUE=URI:https://www.cavalierbaptist.com/events/wednesday-evening-pray
 er-service/2026-07-15
ATTACH;FILENAME=IMG_3228.jpeg;FMTTYPE=image/jpeg:https://dq5pwpg1q8ru0.clou
 dfront.net/2024/09/23/21/10/18/1e3884b5-040d-450d-bee7-fadcead7b428/IMG_32
 28.jpeg
END:VEVENT
END:VCALENDAR
